BEGIN:VCALENDAR
VERSION:2.0
PRODID:-//Lionel Kelland Hospice - ECPv6.15.18//NONSGML v1.0//EN
CALSCALE:GREGORIAN
METHOD:PUBLISH
X-WR-CALNAME:Lionel Kelland Hospice
X-ORIGINAL-URL:https://lionelkellandhospice.ca
X-WR-CALDESC:Events for Lionel Kelland Hospice
REFRESH-INTERVAL;VALUE=DURATION:PT1H
X-Robots-Tag:noindex
X-PUBLISHED-TTL:PT1H
BEGIN:VTIMEZONE
TZID:America/St_Johns
BEGIN:DAYLIGHT
TZOFFSETFROM:-0330
TZOFFSETTO:-0230
TZNAME:NDT
DTSTART:20230312T053000
END:DAYLIGHT
BEGIN:STANDARD
TZOFFSETFROM:-0230
TZOFFSETTO:-0330
TZNAME:NST
DTSTART:20231105T043000
END:STANDARD
BEGIN:DAYLIGHT
TZOFFSETFROM:-0330
TZOFFSETTO:-0230
TZNAME:NDT
DTSTART:20240310T053000
END:DAYLIGHT
BEGIN:STANDARD
TZOFFSETFROM:-0230
TZOFFSETTO:-0330
TZNAME:NST
DTSTART:20241103T043000
END:STANDARD
BEGIN:DAYLIGHT
TZOFFSETFROM:-0330
TZOFFSETTO:-0230
TZNAME:NDT
DTSTART:20250309T053000
END:DAYLIGHT
BEGIN:STANDARD
TZOFFSETFROM:-0230
TZOFFSETTO:-0330
TZNAME:NST
DTSTART:20251102T043000
END:STANDARD
END:VTIMEZONE
BEGIN:VEVENT
DTSTART;TZID=America/St_Johns:20241218T140000
DTEND;TZID=America/St_Johns:20241218T160000
DTSTAMP:20260424T103507
CREATED:20241211T122746Z
LAST-MODIFIED:20241211T122746Z
UID:4164-1734530400-1734537600@lionelkellandhospice.ca
SUMMARY:Tea & Tranquility: Filling Your Cup This Holiday Season
DESCRIPTION:The holiday season can be a challenging time for caregivers or someone grieving the loss of a loved one. Lionel Kelland Hospice invites you to a special FREE session dedicated to self-care\, relaxation\, and connection. \nJoin us for an afternoon High Tea experience in a calming environment. We encourage you to wear your best high tea attire as we share some tasty treats. \nDate: Wednesday\, December 18th\nTime: 2:00 PM – 4:00 PM\nLocation: Solas\, 2nd Floor Location: Lionel Kelland Hospice \nTake a moment for yourself in a warm and welcoming environment. Enjoy the opportunity to:\n💚Discover simple self-care practices to support your well-being.\n💙Share in gentle conversations and mutual support with others who understand. \nWhether you’re navigating the demands of caregiving or processing your grief\, this session offers a peaceful space to recharge and prioritize your well-being. \nSpace is limited\, so please pre-register by Monday\, Dec.16th to reserve your spot\, contact:\nApril Strong\, Social Work & Programs Lead\nCall 709-292-3150 or email aprilstrong@lionelkellandhospice.ca \nTake time to nurture yourself this holiday season—you deserve it.
URL:https://lionelkellandhospice.ca/event/tea-tranquility-filling-your-cup-this-holiday-season/
LOCATION:Lionel Kelland Hospice\, 3 St. Catherine Street\, Grand Falls-Windsor\, Canada
ATTACH;FMTTYPE=image/png:https://lionelkellandhospice.ca/wp-content/uploads/2024/12/Tea-Tranquility_Website.png
END:VEVENT
END:VCALENDAR