BEGIN:VCALENDAR
VERSION:2.0
PRODID:-//Lionel Kelland Hospice - ECPv6.15.18//NONSGML v1.0//EN
CALSCALE:GREGORIAN
METHOD:PUBLISH
X-WR-CALNAME:Lionel Kelland Hospice
X-ORIGINAL-URL:https://lionelkellandhospice.ca
X-WR-CALDESC:Events for Lionel Kelland Hospice
REFRESH-INTERVAL;VALUE=DURATION:PT1H
X-Robots-Tag:noindex
X-PUBLISHED-TTL:PT1H
BEGIN:VTIMEZONE
TZID:America/St_Johns
BEGIN:DAYLIGHT
TZOFFSETFROM:-0330
TZOFFSETTO:-0230
TZNAME:NDT
DTSTART:20240310T053000
END:DAYLIGHT
BEGIN:STANDARD
TZOFFSETFROM:-0230
TZOFFSETTO:-0330
TZNAME:NST
DTSTART:20241103T043000
END:STANDARD
BEGIN:DAYLIGHT
TZOFFSETFROM:-0330
TZOFFSETTO:-0230
TZNAME:NDT
DTSTART:20250309T053000
END:DAYLIGHT
BEGIN:STANDARD
TZOFFSETFROM:-0230
TZOFFSETTO:-0330
TZNAME:NST
DTSTART:20251102T043000
END:STANDARD
BEGIN:DAYLIGHT
TZOFFSETFROM:-0330
TZOFFSETTO:-0230
TZNAME:NDT
DTSTART:20260308T053000
END:DAYLIGHT
BEGIN:STANDARD
TZOFFSETFROM:-0230
TZOFFSETTO:-0330
TZNAME:NST
DTSTART:20261101T043000
END:STANDARD
END:VTIMEZONE
BEGIN:VEVENT
DTSTART;TZID=America/St_Johns:20250614T103000
DTEND;TZID=America/St_Johns:20250614T133000
DTSTAMP:20260424T024351
CREATED:20250407T115814Z
LAST-MODIFIED:20250612T195835Z
UID:4306-1749897000-1749907800@lionelkellandhospice.ca
SUMMARY:Hike for Hospice 2025
DESCRIPTION:Join us for Hike for Hospice 2025!\nHike for Hospice is a family-friendly event that raises funds for Lionel Kelland Hospice. The Hospice is a place where those at the end-of-life receive the care\, respect and dignity they deserve\, and their families will have the critical support and resources they need. Now open\, the Hospice serves people from communities throughout Central NL. \nWe invite you to hike\, bike\, walk\, wheel\, kayak\, run\, do yoga or simply be active during the week of June 8 to 14. Choose your own distance or duration. Participate in your hometown\, worksite or wherever you happen to be. \nWe also encourage teams to come together with other supporters on Saturday\, June 14 at 10:30 am for a community hike beginning at Shanawdithit Centennial Field in Grand Falls-Windsor with a final community walk together to Lionel Kelland Hospice. \nYou can create your own team of family\, friends or co-workers or participate solo. \nThanks to the generous support of our presenting sponsor\, Calibre Valentine Gold Mine\, 100% of funds raised through Hike for Hospice supports our 10-bed community based residential hospice. \n____________________________________________________________________________ \nGet Involved\nRegister as an individual\, team up with your family\, or challenge your co-workers and friends to get involved. Registration fee of $25 will kick off your fundraising and qualify you to receive your 2025 Hike for Hospice T-Shirt! By registering online\, you build your own fundraising page that you can share with your friends and family. Families with children are encouraged to participate (and fundraise)\, but we don’t expect families to make donations for children under the age of 12. *If you have a child that would like to receive a t-shirt you can register them as a part of your team and pay the $25 fee to receive the shirt. \nFundraise\nReach out to your friends and family for pledges and help us raise funds to ensure residents at Lionel Kelland Hospice receive the care\, dignity and respect they deserve. Donations and pledges\, no matter how large or small\, help create a peaceful home-like environment for people who are in the final stage of their lives. \nParticipants may track their successes and their team’s progress online. \n____________________________________________________________________________ \nCommunity Hike – In Person – June 14\nGather with other supporters of Lionel Kelland Hospice. Check in at 10:30 am and go ahead and enjoy the beautiful track. We’ll celebrate our success together with a community lap to the Lionel Kelland Hospice from Shanawdithit Centennial Field and a BBQ lunch hosted by Calibre Valentine Gold Mine after you have finished your Hike and have worked up an appetite. We will also have family-friendly entertainment. \nDate: Saturday\, June 14 \nLocation: Shanawdithit Centennial Field\, Cromer Avenue in Grand Falls-Windsor. \nEvent Schedule: \n10:30 am – 11:00 am – Registration \n11:00 am – 11:15 am – Welcome & Warm Up \n11:15 am – 12:15 am – Hike with Fun & Games on the Field \n12:30 pm – 12:45 pm – Community Lap to the Lionel Kelland Hospice \n12: 45 pm – 1:30 pm – BBQ\, Family Entertainment & Wind-up at the Field \n____________________________________________________________________________ \nDo Your Own Thing – June 8 to 14\nDuring the week of June 8 to 14 – just get out and do your thing – anywhere and at any time. While doing your thing\, inspire others by snapping a picture and sharing it through social media and tag Lionel Kelland Hospice on Facebook or Instagram. \nA reminder to those who plan to participate at your own location – please REGISTER before May 15 to ensure you get your T-Shirt in time! \n  \nRegister Today! \n  \nEvent supported by:\n\n\nThank you to our Sponsors\nPresenting Sponsor\n \nMemorial Wall Sponsor\n \nHydration Station Sponsor\n\nEvent Day Sponsors\n    \nRecruitment Prize Pack Sponsors:\n\n \n____________________________________________________________________________\nQuick Resources for Fundraisers\n\nFundraising Tips for Team Captains\nFundraising Tips for Participants\nHike for Hospice Offline Sponsor Sheet
URL:https://lionelkellandhospice.ca/event/hike-for-hospice-2025/
LOCATION:Shanawdithit Centennial Field Complex\, Cromer Avenue\, Grand Falls-Windsor\, Newfoundland & Labrador\, Canada
ATTACH;FMTTYPE=image/png:https://lionelkellandhospice.ca/wp-content/uploads/2025/03/HIke2025_Website-Header-1920x650-1.png
END:VEVENT
END:VCALENDAR