BEGIN:VCALENDAR
VERSION:2.0
PRODID:-//Lionel Kelland Hospice - ECPv6.15.18//NONSGML v1.0//EN
CALSCALE:GREGORIAN
METHOD:PUBLISH
X-WR-CALNAME:Lionel Kelland Hospice
X-ORIGINAL-URL:https://lionelkellandhospice.ca
X-WR-CALDESC:Events for Lionel Kelland Hospice
REFRESH-INTERVAL;VALUE=DURATION:PT1H
X-Robots-Tag:noindex
X-PUBLISHED-TTL:PT1H
BEGIN:VTIMEZONE
TZID:America/St_Johns
BEGIN:DAYLIGHT
TZOFFSETFROM:-0330
TZOFFSETTO:-0230
TZNAME:NDT
DTSTART:20250309T053000
END:DAYLIGHT
BEGIN:STANDARD
TZOFFSETFROM:-0230
TZOFFSETTO:-0330
TZNAME:NST
DTSTART:20251102T043000
END:STANDARD
BEGIN:DAYLIGHT
TZOFFSETFROM:-0330
TZOFFSETTO:-0230
TZNAME:NDT
DTSTART:20260308T053000
END:DAYLIGHT
BEGIN:STANDARD
TZOFFSETFROM:-0230
TZOFFSETTO:-0330
TZNAME:NST
DTSTART:20261101T043000
END:STANDARD
BEGIN:DAYLIGHT
TZOFFSETFROM:-0330
TZOFFSETTO:-0230
TZNAME:NDT
DTSTART:20270314T053000
END:DAYLIGHT
BEGIN:STANDARD
TZOFFSETFROM:-0230
TZOFFSETTO:-0330
TZNAME:NST
DTSTART:20271107T043000
END:STANDARD
END:VTIMEZONE
BEGIN:VEVENT
DTSTART;VALUE=DATE:20260427
DTEND;VALUE=DATE:20260504
DTSTAMP:20260423T150325
CREATED:20260420T181124Z
LAST-MODIFIED:20260421T143822Z
UID:5197-1777248000-1777852799@lionelkellandhospice.ca
SUMMARY:Tim Hortons Smile Cookie 2026
DESCRIPTION:Smile Cookie is back!\nFrom April 27 to May 3\, treat yourself to something sweet\, and make a meaningful difference while you’re at it.\n\nEvery Smile Cookie you purchase is more than just a delicious treat. It’s a way to support compassionate care\, comfort\, and dignity for individuals and families right here in our community. Best of all\, 100% of proceeds from Smile Cookie sales stay local\, helping create meaningful moments when they matter most. \nVisit a participating Tim Hortons location in Grand Falls-Windsor or Bishop’s Falls and pick up a Smile Cookie for just $2. Not a sweets fan? No problem! This year’s adorable Smile Cookie Plushie is available for $5\, with $2 from every purchase supporting compassionate end-of-life care in Central Newfoundland. \nEvery cookie. Every plushie. Every smile counts. \n\nPre-Order your Cookies\nPlanning for your workplace\, team\, or a thoughtful community gesture? Pre-order your Smile Cookies today! \nBy ordering in advance\, you help us prepare\, meet demand\, and make this year’s campaign our most impactful yet. \nHow to pre-order: \n\nDownload and complete the 2026 Smile Cookie Order Form\nSubmit your order at least 48 hours before your preferred pickup time\nEmail your completed form to: smile@lionelkellandhospice.ca\n\nEvery Smile Cookie sold brings comfort\, care\, and compassion to those who rely on Lionel Kelland Hospice during life’s most tender moments. \nA look back at last year’s impact\nIn 2025\, our incredible community came together to raise over $34\,000 in support of Lionel Kelland Hospice. \nTogether\, let’s build on that impact in 2026. Share a smile\, support your community\, and help make a difference\, one cookie at a time. 💙💚
URL:https://lionelkellandhospice.ca/event/tim-hortons-smile-cookie-2026/
LOCATION:Tim Hortons\, Grand Falls-Windsor & Bishop's Falls\, Newfoundland\, Canada
ATTACH;FMTTYPE=image/png:https://lionelkellandhospice.ca/wp-content/uploads/2026/04/FINAL_Smile-Cookie-2026_Website-Header.png
ORGANIZER;CN="Lionel Kelland Hospice":MAILTO:info@lionelkellandhospice.ca
END:VEVENT
END:VCALENDAR