BEGIN:VCALENDAR
VERSION:2.0
PRODID:-//Lionel Kelland Hospice - ECPv6.15.18//NONSGML v1.0//EN
CALSCALE:GREGORIAN
METHOD:PUBLISH
X-WR-CALNAME:Lionel Kelland Hospice
X-ORIGINAL-URL:https://lionelkellandhospice.ca
X-WR-CALDESC:Events for Lionel Kelland Hospice
REFRESH-INTERVAL;VALUE=DURATION:PT1H
X-Robots-Tag:noindex
X-PUBLISHED-TTL:PT1H
BEGIN:VTIMEZONE
TZID:America/St_Johns
BEGIN:DAYLIGHT
TZOFFSETFROM:-0330
TZOFFSETTO:-0230
TZNAME:NDT
DTSTART:20250309T053000
END:DAYLIGHT
BEGIN:STANDARD
TZOFFSETFROM:-0230
TZOFFSETTO:-0330
TZNAME:NST
DTSTART:20251102T043000
END:STANDARD
BEGIN:DAYLIGHT
TZOFFSETFROM:-0330
TZOFFSETTO:-0230
TZNAME:NDT
DTSTART:20260308T053000
END:DAYLIGHT
BEGIN:STANDARD
TZOFFSETFROM:-0230
TZOFFSETTO:-0330
TZNAME:NST
DTSTART:20261101T043000
END:STANDARD
BEGIN:DAYLIGHT
TZOFFSETFROM:-0330
TZOFFSETTO:-0230
TZNAME:NDT
DTSTART:20270314T053000
END:DAYLIGHT
BEGIN:STANDARD
TZOFFSETFROM:-0230
TZOFFSETTO:-0330
TZNAME:NST
DTSTART:20271107T043000
END:STANDARD
END:VTIMEZONE
BEGIN:VEVENT
DTSTART;TZID=America/St_Johns:20260225T190000
DTEND;TZID=America/St_Johns:20260225T200000
DTSTAMP:20260423T204126
CREATED:20260202T133208Z
LAST-MODIFIED:20260202T134940Z
UID:5028-1772046000-1772049600@lionelkellandhospice.ca
SUMMARY:Special Board Meeting
DESCRIPTION:The Lionel Kelland Hospice Board of Directors will hold a Special Board Meeting on Wednesday\, February 25th at 7:00 PM. \nThe purpose of this meeting is to elect two Public Board Members. This will be the only agenda item\, and the Board is encouraging community members to attend and have their voices heard. \nPublic Directors can/will be nominated by those in attendance at this special meeting and shall be voted on by all eligible people in attendance. \nDetails:\nDate: Wednesday\, February 25\, 2026\nTime: 7:00 PM   *light refreshments will be available. \nLocation: Lionel Kelland Hospice\, 2nd Floor – Solas Room \nThis meeting is open to the public\, and your involvement is an important way to contribute to the future of our Hospice. \nSpread the word! Share with friends\, family\, and neighbors who might be interested in joining or learning more about the Board’s work. \nJoin our Board of Directors!\nHelp shape the future of Hospice care in Central Newfoundland and make a lasting impact in our region! \nFor more information please contact: \nErica Tremblett\, Administrative Assistant\n709-292-3149\nericatremblett@lionelkellandhospice.ca
URL:https://lionelkellandhospice.ca/event/special-board-meeting/
LOCATION:Lionel Kelland Hospice\, 3 St. Catherine Street\, Grand Falls-Windsor\, Canada
ATTACH;FMTTYPE=image/png:https://lionelkellandhospice.ca/wp-content/uploads/2026/02/FINAL_HIke-for-Hospice-2025_Header-1920x701-1.png
ORGANIZER;CN="Lionel Kelland Hospice":MAILTO:info@lionelkellandhospice.ca
END:VEVENT
BEGIN:VEVENT
DTSTART;VALUE=DATE:20260427
DTEND;VALUE=DATE:20260504
DTSTAMP:20260423T204126
CREATED:20260420T181124Z
LAST-MODIFIED:20260421T143822Z
UID:5197-1777248000-1777852799@lionelkellandhospice.ca
SUMMARY:Tim Hortons Smile Cookie 2026
DESCRIPTION:Smile Cookie is back!\nFrom April 27 to May 3\, treat yourself to something sweet\, and make a meaningful difference while you’re at it.\n\nEvery Smile Cookie you purchase is more than just a delicious treat. It’s a way to support compassionate care\, comfort\, and dignity for individuals and families right here in our community. Best of all\, 100% of proceeds from Smile Cookie sales stay local\, helping create meaningful moments when they matter most. \nVisit a participating Tim Hortons location in Grand Falls-Windsor or Bishop’s Falls and pick up a Smile Cookie for just $2. Not a sweets fan? No problem! This year’s adorable Smile Cookie Plushie is available for $5\, with $2 from every purchase supporting compassionate end-of-life care in Central Newfoundland. \nEvery cookie. Every plushie. Every smile counts. \n\nPre-Order your Cookies\nPlanning for your workplace\, team\, or a thoughtful community gesture? Pre-order your Smile Cookies today! \nBy ordering in advance\, you help us prepare\, meet demand\, and make this year’s campaign our most impactful yet. \nHow to pre-order: \n\nDownload and complete the 2026 Smile Cookie Order Form\nSubmit your order at least 48 hours before your preferred pickup time\nEmail your completed form to: smile@lionelkellandhospice.ca\n\nEvery Smile Cookie sold brings comfort\, care\, and compassion to those who rely on Lionel Kelland Hospice during life’s most tender moments. \nA look back at last year’s impact\nIn 2025\, our incredible community came together to raise over $34\,000 in support of Lionel Kelland Hospice. \nTogether\, let’s build on that impact in 2026. Share a smile\, support your community\, and help make a difference\, one cookie at a time. 💙💚
URL:https://lionelkellandhospice.ca/event/tim-hortons-smile-cookie-2026/
LOCATION:Tim Hortons\, Grand Falls-Windsor & Bishop's Falls\, Newfoundland\, Canada
ATTACH;FMTTYPE=image/png:https://lionelkellandhospice.ca/wp-content/uploads/2026/04/FINAL_Smile-Cookie-2026_Website-Header.png
ORGANIZER;CN="Lionel Kelland Hospice":MAILTO:info@lionelkellandhospice.ca
END:VEVENT
BEGIN:VEVENT
DTSTART;TZID=America/St_Johns:20260613T103000
DTEND;TZID=America/St_Johns:20260613T133000
DTSTAMP:20260423T204126
CREATED:20260324T141636Z
LAST-MODIFIED:20260416T162613Z
UID:5072-1781346600-1781357400@lionelkellandhospice.ca
SUMMARY:Hike for Hospice 2026
DESCRIPTION:Join us for Hike for Hospice 2026!\nSince opening our doors in April 2024\, Lionel Kelland Hospice has been honoured to provide compassionate end-of-life care to individuals and families from communities throughout Central Newfoundland and Labrador. Every day\, we witness the profound impact of having a dedicated 10-bed residential hospice where comfort\, dignity\, and family-centered support are at the heart of everything we do. \nHike for Hospice is a family-friendly community event that raises vital funds to sustain this essential care. Because of you\, families have a peaceful place to gather\, share precious moments\, and receive the critical support they need during one of life’s most difficult journeys. \nWe invite you to hike\, bike\, walk\, wheel\, kayak\, run\, do yoga\, or simply be active during the week of June 6–13. Choose your own distance or duration and participate in your hometown\, at your worksite\, or wherever you happen to be. \nTeams are also encouraged to come together at our Community Hike event on Saturday\, June 13 at Shanawdithit Centennial Field in Grand Falls-Windsor\, followed by a final community walk to Lionel Kelland Hospice. \nCreate a team with family\, friends\, and co-workers — or participate solo. Every step makes a difference. \nThanks to the generous support of our presenting sponsor\, Equinox Gold Valentine Gold Mine\, 100% of funds raised through Hike for Hospice directly supports ongoing operations and compassionate care at Lionel Kelland Hospice. \n____________________________________________________________________________ \nGet Involved\nRegister as an individual\, team up with your family\, or challenge your co-workers and friends to get involved. \nRegistration fee of $25 will kick off your fundraising and qualify you to receive your 2026 Hike for Hospice T-Shirt! By registering online\, you build your own fundraising page that you can share with your friends and family. Families with children are encouraged to participate (and fundraise)\, but we don’t expect families to make donations for children under the age of 12. *If you have a child that would like to receive a t-shirt you can register them as a part of your team and pay the $25 fee to receive the shirt. \nFundraise\nReach out to your friends and family for pledges and help us raise funds to ensure residents at Lionel Kelland Hospice receive the care\, dignity and respect they deserve. Donations and pledges\, no matter how large or small\, help create a peaceful home-like environment for people who are in the final stage of their lives. \nParticipants may track their successes and their team’s progress online. \n____________________________________________________________________________ \nCommunity Hike – In Person – June 13\nGather with fellow supporters of Lionel Kelland Hospice for a morning of fresh air\, fun\, and community spirit! Check in at 10:30 am for a fun-filled hike featuring on-site activities and entertainment for all ages. Whether you’re walking in memory of a loved one or simply showing your support\, this day is about coming together for compassionate care in our region. We’ll wrap up the celebration with a special community lap from Shanawdithit Centennial Field to Lionel Kelland Hospice\, marking our shared commitment to Hospice care. After you’ve completed your hike and worked up an appetite\, we’ll enjoy a delicious BBQ lunch hosted by Co-operators\, Chris Davis & Associates! \nDate: Saturday\, June 13 \nLocation: Shanawdithit Centennial Field\, Cromer Avenue in Grand Falls-Windsor. \nEvent Schedule: \n10:30 am – 11:00 am – Registration \n11:00 am – 11:15 am – Welcome & Warm Up \n11:15 am – 12:15 am – Hike with Fun & Games on the Field \n12:30 pm – 12:45 pm – Community Lap to the Lionel Kelland Hospice \n12: 45 pm – 1:30 pm – BBQ\, Family Entertainment & Wind-up at the Field \n____________________________________________________________________________ \nDo Your Own Thing – June 6 to 13\nDuring the week of June 6 to 13 – just get out and do your thing – anywhere and at any time. While doing your thing\, inspire others by snapping a picture and sharing it through social media and tag Lionel Kelland Hospice on Facebook or Instagram. \nA reminder to those who plan to participate at your own location – please REGISTER before May 6 to ensure you get your T-Shirt in time! \n  \nRegister Today! \n  \nThank you to our Sponsors\n\nPresenting Sponsor\n \n  \nCommunity BBQ Sponsor\n\nMemory Wall Sponsor\n \nHydration Station Sponsor\n\n\n\nRecruitment Prize Pack Sponsors:\n\n \n  \nEvent supported by:\n \n____________________________________________________________________________\nQuick Resources for Fundraisers\n\nFundraising Tips for Team Captains\nFundraising Tips for Participants\nHike for Hospice Offline Sponsor Sheet
URL:https://lionelkellandhospice.ca/event/hike-for-hospice-2026/
LOCATION:Shanawdithit Centennial Field Complex\, Cromer Avenue\, Grand Falls-Windsor\, Newfoundland & Labrador\, Canada
ATTACH;FMTTYPE=image/png:https://lionelkellandhospice.ca/wp-content/uploads/2026/02/FINAL_HIke-for-Hospice-2026_Header.png
ORGANIZER;CN="Lionel Kelland Hospice":MAILTO:info@lionelkellandhospice.ca
END:VEVENT
BEGIN:VEVENT
DTSTART;TZID=America/St_Johns:20260613T103000
DTEND;TZID=America/St_Johns:20260613T133000
DTSTAMP:20260423T204126
CREATED:20260324T141700Z
LAST-MODIFIED:20260410T110744Z
UID:5112-1781346600-1781357400@lionelkellandhospice.ca
SUMMARY:Hike for Hospice 2026 - Harbour Breton Community Hike
DESCRIPTION:Join us for Hike for Hospice 2026!\nSince opening our doors in April 2024\, Lionel Kelland Hospice has been honoured to provide compassionate end-of-life care to individuals and families from communities throughout Central Newfoundland and Labrador. Every day\, we witness the profound impact of having a dedicated 10-bed residential hospice where comfort\, dignity\, and family-centered support are at the heart of everything we do. \nHike for Hospice is a family-friendly community event that raises vital funds to sustain this essential care. Because of you\, families have a peaceful place to gather\, share precious moments\, and receive the critical support they need during one of life’s most difficult journeys. \nWe invite you to hike\, bike\, walk\, wheel\, kayak\, run\, do yoga\, or simply be active during the week of June 6–13. Choose your own distance or duration and participate in your hometown\, at your worksite\, or wherever you happen to be. \nTeams are also encouraged to come together at our Community Hike event on Saturday\, June 6 starting at the Harbour Breton Lions Club on Main Street\, Harbour Breton. \nCreate a team with family\, friends\, and co-workers — or participate solo. Every step makes a difference. \nThanks to the generous support of our presenting sponsor\, Equinox Gold Valentine Gold Mine\, 100% of funds raised through Hike for Hospice directly supports ongoing operations and compassionate care at Lionel Kelland Hospice. \n____________________________________________________________________________ \nGet Involved\nRegister as an individual\, team up with your family\, or challenge your co-workers and friends to get involved. \nRegistration fee of $25 will kick off your fundraising and qualify you to receive your 2026 Hike for Hospice T-Shirt! By registering online\, you build your own fundraising page that you can share with your friends and family. Families with children are encouraged to participate (and fundraise)\, but we don’t expect families to make donations for children under the age of 12. *If you have a child that would like to receive a t-shirt you can register them as a part of your team and pay the $25 fee to receive the shirt. \nFundraise\nReach out to your friends and family for pledges and help us raise funds to ensure residents at Lionel Kelland Hospice receive the care\, dignity and respect they deserve. Donations and pledges\, no matter how large or small\, help create a peaceful home-like environment for people who are in the final stage of their lives. \nParticipants may track their successes and their team’s progress online. \n____________________________________________________________________________ \nCommunity Hike – In Person – June 6\nGather with fellow supporters of Lionel Kelland Hospice for a morning of fresh air\, fun\, and community spirit! Check in at 10:30 am for a fun-filled hike featuring on-site activities and entertainment for all ages. Whether you’re walking in memory of a loved one or simply showing your support\, this day is about coming together for compassionate care in our region. After you’ve completed your hike and worked up an appetite\, we’ll enjoy a delicious BBQ lunch hosted by 360 Marine Ltd.! \nDate: Saturday\, June 6 \nLocation: Harbour Breton Lions Club\, Harbour Breton. \nEvent Schedule: \n10:00 am – 11:00 am – Registration \n11:00 am – 11:15 am – Welcome & Warm Up \n11:15 am – 12:15 am – Hike with Family & Friends \n12:15 pm – 1:00 pm – BBQ\, Family Entertainment & Wind-up at the Lions Club \n____________________________________________________________________________ \nDo Your Own Thing – June 6 to 13\nDuring the week of June 6 to 13 – just get out and do your thing – anywhere and at any time. While doing your thing\, inspire others by snapping a picture and sharing it through social media and tag Lionel Kelland Hospice on Facebook or Instagram. \nA reminder to those who plan to participate at your own location – please REGISTER before May 6 to ensure you get your T-Shirt in time! \n  \nRegister Today! \n  \n\nThank you to our Sponsors\nPresenting Sponsor\n \nCommunity BBQ Sponsor\n \nRecruitment Prize Pack Sponsors:\n\n \nEvent supported by:\n \n____________________________________________________________________________\nQuick Resources for Fundraisers\n\nFundraising Tips for Team Captains\nFundraising Tips for Participants\nHike for Hospice Offline Sponsor Sheet\nHike for Hospice Harbour Breton Poster_8.5 x 11\nHike for Hospice Harbour Breton Poster_11 x 17
URL:https://lionelkellandhospice.ca/event/hike-for-hospice-2026-harbour-breton-community-hike/
LOCATION:Harbour Breton Lions Club\, Harbour Breton.\, Main Street\, Harbour Breton\, Canada
ATTACH;FMTTYPE=image/png:https://lionelkellandhospice.ca/wp-content/uploads/2026/02/FINAL_HIke-for-Hospice-2026_Header.png
ORGANIZER;CN="Lionel Kelland Hospice":MAILTO:info@lionelkellandhospice.ca
END:VEVENT
END:VCALENDAR